Workbook

Sheet Exhibit 1
A1: 703 Infrastructure Consulting Ltd.
A3: Exhibit 1: Weekly Demand Data (orders from DCs to supplier) for KXN24
A4: Week Ending | B4: Shanghai (China) | C4: Chengdu (China) | D4: Bangkok (Thailand) | E4: Kuala Lumpur (Malaysia) | F4: Chennai (India) | G4: Mumbai (India)
A6: 42380 | B6: 56 | C6: 15 | D6: 9 | E6: 9 | F6: 4 | G6: 14
A7: =A6+7 -> 42387 | B7: 132 | C7: 12 | D7: 12 | E7: 14 | F7: 23 | G7: 11
A8: =A7+7 -> 42394 | B8: 143 | C8: 17 | D8: 18 | E8: 13 | F8: 9 | G8: 15
A9: =A8+7 -> 42401 | B9: 169 | C9: 18 | D9: 11 | E9: 3 | F9: 7 | G9: 17
A10: =A9+7 -> 42408 | B10: 110 | C10: 11 | D10: 8 | E10: 16 | F10: 2 | G10: 6
A11: =A10+7 -> 42415 | B11: 196 | C11: 13 | D11: 16 | E11: 4 | F11: 18 | G11: 9
A12: =A11+7 -> 42422 | B12: 173 | C12: 5 | D12: 23 | E12: 4 | F12: 16 | G12: 14
A13: =A12+7 -> 42429 | B13: 137 | C13: 17 | D13: 10 | E13: 12 | F13: 15 | G13: 1
A14: =A13+7 -> 42436 | B14: 87 | C14: 13 | D14: 11 | E14: 3 | F14: 9 | G14: 27
A15: =A14+7 -> 42443 | B15: 40 | C15: 5 | D15: 14 | E15: 10 | F15: 12 | G15: 14
A16: =A15+7 -> 42450 | B16: 195 | C16: 16 | D16: 10 | E16: 10 | F16: 18 | G16: 22
A17: =A16+7 -> 42457 | B17: 168 | C17: 19 | D17: 17 | E17: 12 | F17: 10 | G17: 23
A18: =A17+7 -> 42464 | B18: 233 | C18: 10 | D18: 5 | E18: 10 | F18: 2 | G18: 16
... A57: =A56+7 -> 42737 | B57: 191 | C57: 16 | D57: 8 | E57: 10 | F57: 17 | G57: 3

Sheet Exhibits 2,3,4,5
A1: 703 Infrastructure Consulting Ltd.
A3: Exhibit 2: Selected Data on Inventory & Transportation
A4: KXN24 drill as % of all businesses | B4: 0.026
A5: Holding cost | B5: 0.18
A6: Target service rate | B6: 0.98
A7: Unit cost of KXN24 ($) | B7: 16000
A8: L, Lead time in weeks, supplier to ANY 703INF DC | B8: 3
A9: T, Review period at any DC in weeks | B9: 4
A10: Number of KXN24 drills per pallet | B10: 1
A11: Number of pallets per truck load (TL) | B11: 32
A14: Exhibit 3: Inbound Transportation Costs
B15: Current network of DCs | C15: Centralize in Shanghai | D15: Centralize in Mumbai
A16: Inbound (Supplier to 703INF DC) per pallet transport cost, truck load (TL) $ | B16: 20 | C16: 20.6 | D16: 22
A17: Inbound (Supplier to 703INF DC) per pallet transport cost, less than truck load (LTL) $ | B17: 62 | C17: 64 | D17: 65
A20: Exhibit 4: Outbound Transportation Costs
B21: Shanghai (China) | C21: Chengdu (China) | D21: Bangkok (Thailand) | E21: Kuala Lumpur (Malaysia) | F21: Chennai (India) | G21: Mumbai (India)
A23: % Change in outbound cost if originating DC is Shanghai (secnario 2a) | B23: 0 | C23: 0.06 | D23: 0.08 | E23: 0.09 | F23: 0.09 | G23: 0.11
A24: % Change in outbound cost if originating DC is Mumbai (secnario 2b) | B24: 0.12 | C24: 0.12 | D24: 0.075 | E24: 0.083 | F24: 0.04 | G24: 0
A27: Exhibit 5: Total Labor Costs for Supply Chain Operations at 703INF (note that KXN24 represents 2.6% of total cost)
B28: Labor Cost ($) | C28: Labor Cost Reduction percentage
A30: Current State | B30: 20000000 | C30: NA
A31: Scenario 1: Optimized Current State | B31: 18200000 | C31: 0.09
A32: Scenario 2(a): Centralize in Shanghai | B32: 15000000 | C32: 0.25
A33: Scenario 2(a): Centralize in Mumbai | B33: 15400000 | C33: 0.23

Sheet Q1

Sheet Q2
A1: Scenario 1: Annual Inventory Holding Costs
A2: Description | B2: Shanghai (China) | C2: Chengdu (China) | D2: Bangkok (Thailand) | E2: Kuala Lumpur (Malaysia) | F2: Chennai (India) | G2: Mumbai (India)
A4: Required Service Level | B4: ='Exhibits 2,3,4,5'!$B$6 -> 0.98 | C4: ='Exhibits 2,3,4,5'!$B$6 -> 0.98 | D4: ='Exhibits 2,3,4,5'!$B$6 -> 0.98 | E4: ='Exhibits 2,3,4,5'!$B$6 -> 0.98 | F4: ='Exhibits 2,3,4,5'!$B$6 -> 0.98 | G4: ='Exhibits 2,3,4,5'!$B$6 -> 0.98
A5: L, Lead time in weeks, supplier to ANY 703INF DC | B5: ='Exhibits 2,3,4,5'!$B$8 -> 3 | C5: ='Exhibits 2,3,4,5'!$B$8 -> 3 | D5: ='Exhibits 2,3,4,5'!$B$8 -> 3 | E5: ='Exhibits 2,3,4,5'!$B$8 -> 3 | F5: ='Exhibits 2,3,4,5'!$B$8 -> 3 | G5: ='Exhibits 2,3,4,5'!$B$8 -> 3
A6: Average Weekly Demand for KXN24 in units | B6: =ROUNDUP(AVERAGE('Exhibit 1'!B6:B57),0) -> 140 | C6: =ROUNDUP(AVERAGE('Exhibit 1'!C6:C57),0) -> 13 | D6: =ROUNDUP(AVERAGE('Exhibit 1'!D6:D57),0) -> 14 | E6: =ROUNDUP(AVERAGE('Exhibit 1'!E6:E57),0) -> 12 | F6: =ROUNDUP(AVERAGE('Exhibit 1'!F6:F57),0) -> 11 | G6: =ROUNDUP(AVERAGE('Exhibit 1'!G6:G57),0) -> 13
A7: Safety Stock | B7: =B4*B5*B6 -> 411.6 | C7: =C4*C5*C6 -> 38.22 | D7: =D4*D5*D6 -> 41.16 | E7: =E4*E5*E6 -> 35.28 | F7: =F4*F5*F6 -> 32.34 | G7: =G4*G5*G6 -> 38.22
A8: Cost of Safety Stock of KXN24 ($) | B8: =B7*'Exhibits 2,3,4,5'!$B$7 -> 6585600 | C8: =C7*'Exhibits 2,3,4,5'!$B$7 -> 611520 | D8: =D7*'Exhibits 2,3,4,5'!$B$7 -> 658560 | E8: =E7*'Exhibits 2,3,4,5'!$B$7 -> 564480 | F8: =F7*'Exhibits 2,3,4,5'!$B$7 -> 517440 | G8: =G7*'Exhibits 2,3,4,5'!$B$7 -> 611520
A9: Holding cost (@18%) | B9: ='Exhibits 2,3,4,5'!$B$5*B8 -> 1185408 | C9: ='Exhibits 2,3,4,5'!$B$5*C8 -> 110073.6 | D9: ='Exhibits 2,3,4,5'!$B$5*D8 -> 118540.8 | E9: ='Exhibits 2,3,4,5'!$B$5*E8 -> 101606.4 | F9: ='Exhibits 2,3,4,5'!$B$5*F8 -> 93139.2 | G9: ='Exhibits 2,3,4,5'!$B$5*G8 -> 110073.6
A12: Scenario 2a: Annual Inventory Holding Costs
A13: Description | B13: Shanghai (China)
A15: Required Service Level | B15: ='Exhibits 2,3,4,5'!$B$6 -> 0.98
A16: L, Lead time in weeks, supplier to ANY 703INF DC | B16: ='Exhibits 2,3,4,5'!$B$8 -> 3
A17: Average Weekly Demand for KXN24 in units | B17: =SUM(B6:G6) -> 203
A18: Safety Stock | B18: =B15*B16*B17 -> 596.82
A19: Cost of Safety Stock of KXN24 ($) | B19: =B18*'Exhibits 2,3,4,5'!$B$7 -> 9549120
A20: Holding cost (@18%) | B20: ='Exhibits 2,3,4,5'!$B$5*B19 -> 1718841.6
A23: Scenario 2b: Annual Inventory Holding Costs
A24: Description | B24: Mumbai (India)
A26: Required Service Level | B26: ='Exhibits 2,3,4,5'!$B$6 -> 0.98
A27: L, Lead time in weeks, supplier to ANY 703INF DC | B27: ='Exhibits 2,3,4,5'!$B$8 -> 3
A28: Average Weekly Demand for KXN24 in units | B28: =SUM(B17:G17) -> 203
A29: Safety Stock | B29: =B26*B27*B28 -> 596.82
A30: Cost of Safety Stock of KXN24 ($) | B30: =B29*'Exhibits 2,3,4,5'!$B$7 -> 9549120
A31: Holding cost (@18%) | B31: ='Exhibits 2,3,4,5'!$B$5*B30 -> 1718841.6

Sheet Q3
A1: Scenario 1: Transportation Costs
A2: Inbound
B3: Current network of DCs
A4: Inbound (Supplier to 703INF DC) per pallet transport cost, truck load (TL) $ | B4: 20
A5: Inbound (Supplier to 703INF DC) per pallet transport cost, less than truck load (LTL) $ | B5: 62
A8: Description | B8: Shanghai (China) | C8: Chengdu (China) | D8: Bangkok (Thailand) | E8: Kuala Lumpur (Malaysia) | F8: Chennai (India) | G8: Mumbai (India)
A10: Total Demand in Units | B10: =SUM('Exhibit 1'!B6:B57) -> 7240 | C10: =SUM('Exhibit 1'!C6:C57) -> 627 | D10: =SUM('Exhibit 1'!D6:D57) -> 689 | E10: =SUM('Exhibit 1'!E6:E57) -> 599 | F10: =SUM('Exhibit 1'!F6:F57) -> 558 | G10: =SUM('Exhibit 1'!G6:G57) -> 643
A11: Total Network Demand | B11: =SUM(B10:G10) -> 10356
A12: Number of KXN24 drills per truck load (TL) | B12: 32
A13: Number of full truck loads (TL) | B13: =B11/B12 -> 323.625
A14: Number of partially full truck loads (TL) | B14: 0
A15: Inbound (Supplier to 703INF DC) total transport cost, truck load (TL) $ | B15: =B13*B12*B4 -> 207120
A16: Inbound (Supplier to 703INF DC) transport cost, less than truck load (LTL) $ | B16: =B5*B14 -> 0
A17: Total Inbound Transportation Cost | B17: =SUM(B15:B16) -> 207120
A19: Outbound
A20: Total Outbound Transportation cost (@35%) | B20: =0.35*B17 -> 72492
A23: Scenario 2a: Transportation Costs
A24: Inbound
B25: Current network of DCs
A26: Inbound (Supplier to 703INF DC) per pallet transport cost, truck load (TL) $ | B26: 20.6
A27: Inbound (Supplier to 703INF DC) per pallet transport cost, less than truck load (LTL) $ | B27: 64
A30: Description | B30: Shanghai (China)
A32: Total Network Demand | B32: =SUM('Exhibit 1'!B6:G57) -> 10356
A33: Number of KXN24 drills per truck load (TL) | B33: 32
A34: Number of full truck loads (TL) | B34: =B32/B33 -> 323.625
A35: Number of partially full truck loads (TL) | B35: 0
A36: Inbound (Supplier to 703INF DC) total transport cost, truck load (TL) $ | B36: =B34*B33*B26 -> 213333.6
A37: Inbound (Supplier to 703INF DC) transport cost, less than truck load (LTL) $ | B37: =B27*B35 -> 0
A38: Total Inbound Transportation Cost | B38: =SUM(B36:B37) -> 213333.6
A40: Outbound
A41: Description | B41: Shanghai (China) | C41: Chengdu (China) | D41: Bangkok (Thailand) | E41: Kuala Lumpur (Malaysia) | F41: Chennai (India) | G41: Mumbai (India)
A43: Outbound Transportation cost (Percentage) | B43: 0 | C43: 0.06 | D43: 0.08 | E43: 0.09 | F43: 0.09 | G43: 0.11
A44: Outbound Transportation cost ($) | B44: =B43*$B$38 -> 0 | C44: =C43*$B$38 -> 12800.016 | D44: =D43*$B$38 -> 17066.688 | E44: =E43*$B$38 -> 19200.024 | F44: =F43*$B$38 -> 19200.024 | G44: =G43*$B$38 -> 23466.696
A45: Total Outbound Transportation cost ($) | B45: =SUM(B44:G44) -> 91733.448
A48: Scenario 2b: Transportation Costs
A49: Inbound
B50: Current network of DCs
A51: Inbound (Supplier to 703INF DC) per pallet transport cost, truck load (TL) $ | B51: 22
A52: Inbound (Supplier to 703INF DC) per pallet transport cost, less than truck load (LTL) $ | B52: 65
A55: Description | B55: Shanghai (China)
...

Sheet Q4
A1: Scenario 1: Total Costs
A2: Total Inventory Holding Costs | B2: =SUM('Q2'!B9:G9) -> 1718841.6
A3: Total Inbound Transportation Costs | B3: ='Q3'!B17 -> 207120
A4: Total Outbound Transportation Costs | B4: ='Q3'!B20 -> 72492
A5: Total Labor Costs (KXN24 represents 2.6% of total cost) | B5: =0.026*'Exhibits 2,3,4,5'!B31 -> 473200
A6: Total Business Costs | B6: =SUM(B2:B5) -> 2471653.6
A9: Scenario 2a: Total Costs
A10: Total Inventory Holding Costs | B10: ='Q2'!B20 -> 1718841.6
A11: Total Inbound Transportation Costs | B11: ='Q3'!B38 -> 213333.6
A12: Total Outbound Transportation Costs | B12: ='Q3'!B45 -> 91733.448
A13: Total Labor Costs (KXN24 represents 2.6% of total cost) | B13: =0.026*'Exhibits 2,3,4,5'!B32 -> 390000
A14: Total Business Costs | B14: =SUM(B10:B13) -> 2413908.6
A17: Scenario 2b: Total Costs
A18: Total Inventory Holding Costs | B18: ='Q2'!B31 -> 1718841.6
A19: Total Inbound Transportation Costs | B19: ='Q3'!B63 -> 227832
A20: Total Outbound Transportation Costs | B20: ='Q3'!B70 -> 99790.416
A21: Total Labor Costs (KXN24 represents 2.6% of total cost) | B21: =0.026*'Exhibits 2,3,4,5'!B33 -> 400400
A22: Total Business Costs | B22: =SUM(B18:B21) -> 2446864

Sheet Q5
